BEGIN:VCALENDAR
VERSION:2.0
PRODID:-//HD Okwa Drilling Services - ECPv6.15.18//NONSGML v1.0//EN
CALSCALE:GREGORIAN
METHOD:PUBLISH
X-WR-CALNAME:HD Okwa Drilling Services
X-ORIGINAL-URL:https://hdokwa.com
X-WR-CALDESC:Events for HD Okwa Drilling Services
REFRESH-INTERVAL;VALUE=DURATION:PT1H
X-Robots-Tag:noindex
X-PUBLISHED-TTL:PT1H
BEGIN:VTIMEZONE
TZID:Africa/Lagos
BEGIN:STANDARD
TZOFFSETFROM:+0100
TZOFFSETTO:+0100
TZNAME:WAT
DTSTART:20240101T000000
END:STANDARD
END:VTIMEZONE
BEGIN:VEVENT
DTSTART;TZID=Africa/Lagos:20250630T080000
DTEND;TZID=Africa/Lagos:20250630T170000
DTSTAMP:20260424T145353
CREATED:20250401T004141Z
LAST-MODIFIED:20250401T004141Z
UID:428-1751270400-1751302800@hdokwa.com
SUMMARY:Drilling Operations Master Class
DESCRIPTION:
URL:https://hdokwa.com/programme/drilling-operations-master-class/
END:VEVENT
BEGIN:VEVENT
DTSTART;TZID=Africa/Lagos:20250624T080000
DTEND;TZID=Africa/Lagos:20250624T170000
DTSTAMP:20260424T145353
CREATED:20250401T003901Z
LAST-MODIFIED:20250401T004040Z
UID:425-1750752000-1750784400@hdokwa.com
SUMMARY:Well Re-entry & Workover Masterclass
DESCRIPTION:
URL:https://hdokwa.com/programme/well-re-entry-workover-masterclass/
ATTACH;FMTTYPE=image/jpeg:https://hdokwa.com/wp-content/uploads/2025/03/HD-Okwa-Drilling-Trainings.jpg
END:VEVENT
END:VCALENDAR